BEGIN:VCALENDAR
VERSION:2.0
PRODID:-//Slammers Bingo - ECPv6.15.20//NONSGML v1.0//EN
CALSCALE:GREGORIAN
METHOD:PUBLISH
X-WR-CALNAME:Slammers Bingo
X-ORIGINAL-URL:https://slammersbingo.com
X-WR-CALDESC:Events for Slammers Bingo
REFRESH-INTERVAL;VALUE=DURATION:PT1H
X-Robots-Tag:noindex
X-PUBLISHED-TTL:PT1H
BEGIN:VTIMEZONE
TZID:America/Denver
BEGIN:DAYLIGHT
TZOFFSETFROM:-0700
TZOFFSETTO:-0600
TZNAME:MDT
DTSTART:20200308T090000
END:DAYLIGHT
BEGIN:STANDARD
TZOFFSETFROM:-0600
TZOFFSETTO:-0700
TZNAME:MST
DTSTART:20201101T080000
END:STANDARD
BEGIN:DAYLIGHT
TZOFFSETFROM:-0700
TZOFFSETTO:-0600
TZNAME:MDT
DTSTART:20210314T090000
END:DAYLIGHT
BEGIN:STANDARD
TZOFFSETFROM:-0600
TZOFFSETTO:-0700
TZNAME:MST
DTSTART:20211107T080000
END:STANDARD
BEGIN:DAYLIGHT
TZOFFSETFROM:-0700
TZOFFSETTO:-0600
TZNAME:MDT
DTSTART:20220313T090000
END:DAYLIGHT
BEGIN:STANDARD
TZOFFSETFROM:-0600
TZOFFSETTO:-0700
TZNAME:MST
DTSTART:20221106T080000
END:STANDARD
BEGIN:DAYLIGHT
TZOFFSETFROM:-0700
TZOFFSETTO:-0600
TZNAME:MDT
DTSTART:20230312T090000
END:DAYLIGHT
BEGIN:STANDARD
TZOFFSETFROM:-0600
TZOFFSETTO:-0700
TZNAME:MST
DTSTART:20231105T080000
END:STANDARD
BEGIN:DAYLIGHT
TZOFFSETFROM:-0700
TZOFFSETTO:-0600
TZNAME:MDT
DTSTART:20240310T090000
END:DAYLIGHT
BEGIN:STANDARD
TZOFFSETFROM:-0600
TZOFFSETTO:-0700
TZNAME:MST
DTSTART:20241103T080000
END:STANDARD
BEGIN:DAYLIGHT
TZOFFSETFROM:-0700
TZOFFSETTO:-0600
TZNAME:MDT
DTSTART:20250309T090000
END:DAYLIGHT
BEGIN:STANDARD
TZOFFSETFROM:-0600
TZOFFSETTO:-0700
TZNAME:MST
DTSTART:20251102T080000
END:STANDARD
BEGIN:DAYLIGHT
TZOFFSETFROM:-0700
TZOFFSETTO:-0600
TZNAME:MDT
DTSTART:20260308T090000
END:DAYLIGHT
BEGIN:STANDARD
TZOFFSETFROM:-0600
TZOFFSETTO:-0700
TZNAME:MST
DTSTART:20261101T080000
END:STANDARD
BEGIN:DAYLIGHT
TZOFFSETFROM:-0700
TZOFFSETTO:-0600
TZNAME:MDT
DTSTART:20270314T090000
END:DAYLIGHT
BEGIN:STANDARD
TZOFFSETFROM:-0600
TZOFFSETTO:-0700
TZNAME:MST
DTSTART:20271107T080000
END:STANDARD
END:VTIMEZONE
BEGIN:VEVENT
DTSTART;TZID=America/Denver:20260419T193000
DTEND;TZID=America/Denver:20260419T220000
DTSTAMP:20260420T222602
CREATED:20210612T022432Z
LAST-MODIFIED:20210612T022432Z
UID:16300-1776627000-1776636000@slammersbingo.com
SUMMARY:Dakota Ridge Instrumental Music Boosters
DESCRIPTION:
URL:https://slammersbingo.com/event/dakota-ridge-instrumental-music-boosters/2026-04-19/
LOCATION:Dakota Ridge Instrumental Music Boosters – Progressive $2\,311.00\, 1878 S. Wadsworth Blvd.\, Lakewood\, 80232-6831\, United States
CATEGORIES:Dakota Ridge Instrumental Music Boosters
GEO:39.6834597;-105.0812509
X-APPLE-STRUCTURED-LOCATION;VALUE=URI;X-ADDRESS=Dakota Ridge Instrumental Music Boosters – Progressive $2311.00 1878 S. Wadsworth Blvd. Lakewood 80232-6831 United States;X-APPLE-RADIUS=500;X-TITLE=1878 S. Wadsworth Blvd.:geo:-105.0812509,39.6834597
END:VEVENT
BEGIN:VEVENT
DTSTART;TZID=America/Denver:20260412T193000
DTEND;TZID=America/Denver:20260412T220000
DTSTAMP:20260420T222602
CREATED:20210612T022432Z
LAST-MODIFIED:20210612T022432Z
UID:16282-1776022200-1776031200@slammersbingo.com
SUMMARY:Dakota Ridge Instrumental Music Boosters
DESCRIPTION:
URL:https://slammersbingo.com/event/dakota-ridge-instrumental-music-boosters/2026-04-12/
LOCATION:Dakota Ridge Instrumental Music Boosters – Progressive $2\,311.00\, 1878 S. Wadsworth Blvd.\, Lakewood\, 80232-6831\, United States
CATEGORIES:Dakota Ridge Instrumental Music Boosters
GEO:39.6834597;-105.0812509
X-APPLE-STRUCTURED-LOCATION;VALUE=URI;X-ADDRESS=Dakota Ridge Instrumental Music Boosters – Progressive $2311.00 1878 S. Wadsworth Blvd. Lakewood 80232-6831 United States;X-APPLE-RADIUS=500;X-TITLE=1878 S. Wadsworth Blvd.:geo:-105.0812509,39.6834597
END:VEVENT
BEGIN:VEVENT
DTSTART;TZID=America/Denver:20260405T193000
DTEND;TZID=America/Denver:20260405T220000
DTSTAMP:20260420T222602
CREATED:20210612T022432Z
LAST-MODIFIED:20210612T022432Z
UID:16263-1775417400-1775426400@slammersbingo.com
SUMMARY:Dakota Ridge Instrumental Music Boosters
DESCRIPTION:
URL:https://slammersbingo.com/event/dakota-ridge-instrumental-music-boosters/2026-04-05/
LOCATION:Dakota Ridge Instrumental Music Boosters – Progressive $2\,311.00\, 1878 S. Wadsworth Blvd.\, Lakewood\, 80232-6831\, United States
CATEGORIES:Dakota Ridge Instrumental Music Boosters
GEO:39.6834597;-105.0812509
X-APPLE-STRUCTURED-LOCATION;VALUE=URI;X-ADDRESS=Dakota Ridge Instrumental Music Boosters – Progressive $2311.00 1878 S. Wadsworth Blvd. Lakewood 80232-6831 United States;X-APPLE-RADIUS=500;X-TITLE=1878 S. Wadsworth Blvd.:geo:-105.0812509,39.6834597
END:VEVENT
BEGIN:VEVENT
DTSTART;TZID=America/Denver:20260329T193000
DTEND;TZID=America/Denver:20260329T220000
DTSTAMP:20260420T222602
CREATED:20210612T022432Z
LAST-MODIFIED:20210612T022432Z
UID:16245-1774812600-1774821600@slammersbingo.com
SUMMARY:Dakota Ridge Instrumental Music Boosters
DESCRIPTION:
URL:https://slammersbingo.com/event/dakota-ridge-instrumental-music-boosters/2026-03-29/
LOCATION:Dakota Ridge Instrumental Music Boosters – Progressive $2\,311.00\, 1878 S. Wadsworth Blvd.\, Lakewood\, 80232-6831\, United States
CATEGORIES:Dakota Ridge Instrumental Music Boosters
GEO:39.6834597;-105.0812509
X-APPLE-STRUCTURED-LOCATION;VALUE=URI;X-ADDRESS=Dakota Ridge Instrumental Music Boosters – Progressive $2311.00 1878 S. Wadsworth Blvd. Lakewood 80232-6831 United States;X-APPLE-RADIUS=500;X-TITLE=1878 S. Wadsworth Blvd.:geo:-105.0812509,39.6834597
END:VEVENT
BEGIN:VEVENT
DTSTART;TZID=America/Denver:20260322T193000
DTEND;TZID=America/Denver:20260322T220000
DTSTAMP:20260420T222602
CREATED:20210612T022432Z
LAST-MODIFIED:20210612T022432Z
UID:16227-1774207800-1774216800@slammersbingo.com
SUMMARY:Dakota Ridge Instrumental Music Boosters
DESCRIPTION:
URL:https://slammersbingo.com/event/dakota-ridge-instrumental-music-boosters/2026-03-22/
LOCATION:Dakota Ridge Instrumental Music Boosters – Progressive $2\,311.00\, 1878 S. Wadsworth Blvd.\, Lakewood\, 80232-6831\, United States
CATEGORIES:Dakota Ridge Instrumental Music Boosters
GEO:39.6834597;-105.0812509
X-APPLE-STRUCTURED-LOCATION;VALUE=URI;X-ADDRESS=Dakota Ridge Instrumental Music Boosters – Progressive $2311.00 1878 S. Wadsworth Blvd. Lakewood 80232-6831 United States;X-APPLE-RADIUS=500;X-TITLE=1878 S. Wadsworth Blvd.:geo:-105.0812509,39.6834597
END:VEVENT
BEGIN:VEVENT
DTSTART;TZID=America/Denver:20210613T193000
DTEND;TZID=America/Denver:20210613T220000
DTSTAMP:20260420T222602
CREATED:20210612T022432Z
LAST-MODIFIED:20210612T022432Z
UID:11606-1623612600-1623621600@slammersbingo.com
SUMMARY:Dakota Ridge Instrumental Music Boosters
DESCRIPTION:
URL:https://slammersbingo.com/event/dakota-ridge-instrumental-music-boosters/2021-06-13/
LOCATION:Dakota Ridge Instrumental Music Boosters – Progressive $2\,311.00\, 1878 S. Wadsworth Blvd.\, Lakewood\, 80232-6831\, United States
CATEGORIES:Dakota Ridge Instrumental Music Boosters
GEO:39.6834597;-105.0812509
X-APPLE-STRUCTURED-LOCATION;VALUE=URI;X-ADDRESS=Dakota Ridge Instrumental Music Boosters – Progressive $2311.00 1878 S. Wadsworth Blvd. Lakewood 80232-6831 United States;X-APPLE-RADIUS=500;X-TITLE=1878 S. Wadsworth Blvd.:geo:-105.0812509,39.6834597
END:VEVENT
END:VCALENDAR